BEGIN:VCALENDAR
VERSION:2.0
PRODID:icalendar-ruby
CALSCALE:GREGORIAN
BEGIN:VEVENT
DTSTAMP:20260422T113702Z
UID:a349dc8e-056e-4363-88df-24b06ea61058
DTSTART;VALUE=DATE:20210724
DESCRIPTION:Property ID# 512246\, Locatoin: On Site\, Time: 12:00PM
SUMMARY:Auction for 
END:VEVENT
END:VCALENDAR
